BEGIN:VCALENDAR
VERSION:2.0
PRODID:-//イルチブレインヨガ公式サイト - ECPv6.15.16//NONSGML v1.0//EN
CALSCALE:GREGORIAN
METHOD:PUBLISH
X-WR-CALNAME:イルチブレインヨガ公式サイト
X-ORIGINAL-URL:https://ilchibrainyoga.com
X-WR-CALDESC:イルチブレインヨガ公式サイト のイベント
REFRESH-INTERVAL;VALUE=DURATION:PT1H
X-Robots-Tag:noindex
X-PUBLISHED-TTL:PT1H
BEGIN:VTIMEZONE
TZID:Asia/Tokyo
BEGIN:STANDARD
TZOFFSETFROM:+0900
TZOFFSETTO:+0900
TZNAME:JST
DTSTART:20240101T000000
END:STANDARD
END:VTIMEZONE
BEGIN:VEVENT
DTSTART;TZID=Asia/Tokyo:20251121T100000
DTEND;TZID=Asia/Tokyo:20251121T113000
DTSTAMP:20260426T004339
CREATED:20251018T133911Z
LAST-MODIFIED:20251018T133911Z
UID:83090-1763719200-1763724600@ilchibrainyoga.com
SUMMARY:【奈良】へそヒーリング体験会～お腹からほっと緩む、心と体のリラックスタイム～
DESCRIPTION:おへそを中心にやさしくほぐしていく「へそヒーリング」\n呼吸が深まり、全身がポカポカとあたたかくなる感覚を体験できます。\nストレスケア・リラックス・エネルギー循環を感じたい方におすすめです。 \n開催日：11月21日（金）\n時間：10：00～11：30\n会場名：ならまちセンター3階和室\n会場住所：奈良市東寺林町38番地\n参加費：500円\nトレーナー：小倉里江\n持ち物：動きやすい服装\n問合せ電話：0742-23-6701 \n\nLINEからのお申し込みはこちら⇒https://lin.ee/clvMTqR \n\n\n  \n\n\n\n\n	\n	\n	 \n	\n		\n			\n				ご予約内容\n						（必須）\n						\n				 \n			\n			\n				体験レッスンイベント体験レッスン+オーラ撮影オーラ撮影問合せ\n※ 入会予約はこちらからお申し込みください\n				 \n			\n		\n		\n			\n				お名前\n						（必須）\n						\n				 \n			\n			\n				\n				 \n			\n		\n		\n			\n				メールアドレス\n						（必須）\n						\n				 \n			\n			\n				\n※ 携帯電話のメールアドレスをご入力の際は、ドメイン指定の設定をされている場合”＠ilchibrainyoga.com”からのメールを受け取ることができるように設定してください。\n				 \n			\n		\n		\n			\n				お電話番号（携帯可）\n						（必須）\n						\n				 \n			\n			\n				イルチブレインヨガ各店舗からの連絡が可能な番号をご入力ください。\n\n				 \n			\n		\n		\n			\n				ご予約希望日時\n				 \n			\n			\n				ご予約希望日時をお選びください\n【希望日】タイムスケジュールに記載があるクラスからお選びください\n\n時間帯を選択してください10時台のクラス14時台のクラス19時台のクラス21時台のクラスMiniクラス午前のイベント午後のイベント夜のイベント\n				 \n				※ ご予約状況等によりご希望の日時に添えない場合もございます。その際は事前に調整を行う連絡をさせていただきますので予めご了承ください。\n\n				 \n			\n		\n		\n			\n				こちらのスタジオを何でお知りになりましたか？\n						 （必須）\n						\n				 \n			\n			\n				チラシ看板書籍雑誌紹介Yahoo検索Google検索口コミその他Webサイト\n				 \n			\n		\n		\n			\n				ご関心があること、習得したいこと（複数可）\n				 \n			\n			\n				自然治癒力アップ集中力アップダイエット体質改善ストレス軽減丹田強化呼吸法瞑想法その他（備考欄にご入力ください）\n				 \n			\n		\n		\n			\n				備考欄\n				 \n			\n			\n				\n				 \n			\n		\n	\n	個人情報の取扱い\n		について、同意の上送信します。\n※ ご入力頂いた情報は、株式会社DAHN WORLD JAPANからのご案内をさせて頂く以外の目的では使用致しません。\n		\n	 \n	\n	\n	 \n	※ 送信ボタンを押すとすぐ送信されます。このページで入力内容を確認してください。\n\n自動で完了メールが配信されます。\n	 \nΔ \n\n\n\n株式会社DAHN WORLD JAPAN　ダンワールドジャパン
URL:https://ilchibrainyoga.com/event/nara-13/
LOCATION:ならまちセンター3階和室\, 奈良市東寺林町38番地
CATEGORIES:奈良,奈良
ATTACH;FMTTYPE=image/png:https://ilchibrainyoga.com/wp-content/uploads/2025/01/へそヒーリング.png
END:VEVENT
BEGIN:VEVENT
DTSTART;TZID=Asia/Tokyo:20251101T100000
DTEND;TZID=Asia/Tokyo:20251130T203000
DTSTAMP:20260426T004339
CREATED:20251028T052909Z
LAST-MODIFIED:20251028T052928Z
UID:83290-1761991200-1764534600@ilchibrainyoga.com
SUMMARY:【奈良】11月30日㈰まで　整える力が自分を変える　〜腸と心のバランスを育てるセルフケアヨガ〜
DESCRIPTION:年齢を重ねる程、心と腸の繋がりは深くなります。何となく気分が落ち込みやすい、寝つきが悪い、体が重い.…。それは腸と自律神経が乱れているサインかもしれません。腸を緩め呼吸を整えることで心の緊張がほどけ、前向きなエネルギーが戻ってきます。自分を整えることは、安心の先にある「生きる力」や「人のために動ける力」へとつながります。 \n開催日：2025年11月1日㈯～30日㈰\n時間：\n①火曜～日曜　10：00～11：30　/　14：00～15：30\n②火・水・金曜　19：00～20：30\n③木曜　18：00～19：00 \n主催：イルチブレインヨガ奈良スタジオ\n住所：奈良市下三条町10-1末廣ビル6階\n参加費：1\,500円　(税込み)　\nトレーナー：小倉　里江 \n※事前にご予約をお願い致します。\n※LINEからの申し込みで500円OFF！\n※体験された方に腸もみ10分プレゼント\n※30分前にお越しください\n※動きやすい服装（男女更衣室あり）、汗拭きタオル、水分補給の飲み物\n※駐車場がございませんので近隣のコインパーキングにお願い致します。\n自転車、バイクはビル通路に停めていただけます。 \n問合せ電話：0742-23-6701 \n\nLINEからのお申し込みはこちら⇒https://lin.ee/clvMTqR \n\n\n  \n\n\n\n\n	\n	\n	 \n	\n		\n			\n				ご予約内容\n						（必須）\n						\n				 \n			\n			\n				体験レッスンイベント体験レッスン+オーラ撮影オーラ撮影問合せ\n※ 入会予約はこちらからお申し込みください\n				 \n			\n		\n		\n			\n				お名前\n						（必須）\n						\n				 \n			\n			\n				\n				 \n			\n		\n		\n			\n				メールアドレス\n						（必須）\n						\n				 \n			\n			\n				\n※ 携帯電話のメールアドレスをご入力の際は、ドメイン指定の設定をされている場合”＠ilchibrainyoga.com”からのメールを受け取ることができるように設定してください。\n				 \n			\n		\n		\n			\n				お電話番号（携帯可）\n						（必須）\n						\n				 \n			\n			\n				イルチブレインヨガ各店舗からの連絡が可能な番号をご入力ください。\n\n				 \n			\n		\n		\n			\n				ご予約希望日時\n				 \n			\n			\n				ご予約希望日時をお選びください\n【希望日】タイムスケジュールに記載があるクラスからお選びください\n\n時間帯を選択してください10時台のクラス14時台のクラス19時台のクラス21時台のクラスMiniクラス午前のイベント午後のイベント夜のイベント\n				 \n				※ ご予約状況等によりご希望の日時に添えない場合もございます。その際は事前に調整を行う連絡をさせていただきますので予めご了承ください。\n\n				 \n			\n		\n		\n			\n				こちらのスタジオを何でお知りになりましたか？\n						 （必須）\n						\n				 \n			\n			\n				チラシ看板書籍雑誌紹介Yahoo検索Google検索口コミその他Webサイト\n				 \n			\n		\n		\n			\n				ご関心があること、習得したいこと（複数可）\n				 \n			\n			\n				自然治癒力アップ集中力アップダイエット体質改善ストレス軽減丹田強化呼吸法瞑想法その他（備考欄にご入力ください）\n				 \n			\n		\n		\n			\n				備考欄\n				 \n			\n			\n				\n				 \n			\n		\n	\n	個人情報の取扱い\n		について、同意の上送信します。\n※ ご入力頂いた情報は、株式会社DAHN WORLD JAPANからのご案内をさせて頂く以外の目的では使用致しません。\n		\n	 \n	\n	\n	 \n	※ 送信ボタンを押すとすぐ送信されます。このページで入力内容を確認してください。\n\n自動で完了メールが配信されます。\n	 \nΔ \n\n\n\n株式会社DAHN WORLD JAPAN　ダンワールドジャパン
URL:https://ilchibrainyoga.com/event/nara-14/
LOCATION:イルチブレインヨガ奈良スタジオ\, 奈良市下三条10-1　末廣ビル6階\, 日本
CATEGORIES:奈良,奈良
ATTACH;FMTTYPE=image/jpeg:https://ilchibrainyoga.com/wp-content/uploads/2024/05/56123-scaled.jpg
END:VEVENT
BEGIN:VEVENT
DTSTART;TZID=Asia/Tokyo:20251003T100000
DTEND;TZID=Asia/Tokyo:20251031T203000
DTSTAMP:20260426T004339
CREATED:20250923T052856Z
LAST-MODIFIED:20250923T052856Z
UID:82307-1759485600-1761942600@ilchibrainyoga.com
SUMMARY:【奈良】10月31日㈮まで　わたし再起動　～頑張りすぎた自分に腸からのリセットを～
DESCRIPTION:仕事もプライベートも頑張ってきたのに、ふと「このままでいいのかな」と感じることはありませんか？\n気づかないうちに抱えてきたストレスは、心だけでなく”お腹”にもたまりやすいもの。\n腸をやさしくケアすることで、心と体にふわっと余裕が生まれ、新しい一歩を踏み出す力が戻ってきます。\n「わたし再起動」ワークショップで、腸から整えるリセット体験をしてみませんか？ \n開催日：\n①10月3日㈮・10日㈮・17日㈮・24日㈮・31日㈮\n②10月5日㈰・11日㈯・18日㈯・25日㈯・26日㈰ \n時間：\n①10：00～11：30　/　19：00～20：30\n②10：00～11：30　/　14：00～15：30 \n主催：イルチブレインヨガ奈良スタジオ\n住所：奈良市下三条町10-1末廣ビル6階\n参加費：1\,500円　(税込み)　 \n※事前にご予約をお願い致します。\n※LINEからの申し込みで500円OFF！\n※体験された方に腸もみ10分プレゼント\n※30分前にお越しください\n※動きやすい服装（男女更衣室あり）、汗拭きタオル、水分補給の飲み物\n※駐車場がございませんので近隣のコインパーキングにお願い致します。\n自転車、バイクはビル通路に停めていただけます。\nトレーナー：小倉　里江\n問合せ電話：0742-23-6701 \n\nLINEからのお申し込みはこちら⇒https://lin.ee/clvMTqR \n\n\n  \n\n\n\n\n	\n	\n	 \n	\n		\n			\n				ご予約内容\n						（必須）\n						\n				 \n			\n			\n				体験レッスンイベント体験レッスン+オーラ撮影オーラ撮影問合せ\n※ 入会予約はこちらからお申し込みください\n				 \n			\n		\n		\n			\n				お名前\n						（必須）\n						\n				 \n			\n			\n				\n				 \n			\n		\n		\n			\n				メールアドレス\n						（必須）\n						\n				 \n			\n			\n				\n※ 携帯電話のメールアドレスをご入力の際は、ドメイン指定の設定をされている場合”＠ilchibrainyoga.com”からのメールを受け取ることができるように設定してください。\n				 \n			\n		\n		\n			\n				お電話番号（携帯可）\n						（必須）\n						\n				 \n			\n			\n				イルチブレインヨガ各店舗からの連絡が可能な番号をご入力ください。\n\n				 \n			\n		\n		\n			\n				ご予約希望日時\n				 \n			\n			\n				ご予約希望日時をお選びください\n【希望日】タイムスケジュールに記載があるクラスからお選びください\n\n時間帯を選択してください10時台のクラス14時台のクラス19時台のクラス21時台のクラスMiniクラス午前のイベント午後のイベント夜のイベント\n				 \n				※ ご予約状況等によりご希望の日時に添えない場合もございます。その際は事前に調整を行う連絡をさせていただきますので予めご了承ください。\n\n				 \n			\n		\n		\n			\n				こちらのスタジオを何でお知りになりましたか？\n						 （必須）\n						\n				 \n			\n			\n				チラシ看板書籍雑誌紹介Yahoo検索Google検索口コミその他Webサイト\n				 \n			\n		\n		\n			\n				ご関心があること、習得したいこと（複数可）\n				 \n			\n			\n				自然治癒力アップ集中力アップダイエット体質改善ストレス軽減丹田強化呼吸法瞑想法その他（備考欄にご入力ください）\n				 \n			\n		\n		\n			\n				備考欄\n				 \n			\n			\n				\n				 \n			\n		\n	\n	個人情報の取扱い\n		について、同意の上送信します。\n※ ご入力頂いた情報は、株式会社DAHN WORLD JAPANからのご案内をさせて頂く以外の目的では使用致しません。\n		\n	 \n	\n	\n	 \n	※ 送信ボタンを押すとすぐ送信されます。このページで入力内容を確認してください。\n\n自動で完了メールが配信されます。\n	 \nΔ \n\n\n\n株式会社DAHN WORLD JAPAN　ダンワールドジャパン
URL:https://ilchibrainyoga.com/event/nara-11/
LOCATION:イルチブレインヨガ奈良スタジオ\, 奈良市下三条10-1　末廣ビル6階\, 日本
CATEGORIES:奈良,奈良
ATTACH;FMTTYPE=image/jpeg:https://ilchibrainyoga.com/wp-content/uploads/2025/05/腸②.jpg
END:VEVENT
BEGIN:VEVENT
DTSTART;TZID=Asia/Tokyo:20251002T100000
DTEND;TZID=Asia/Tokyo:20251030T113000
DTSTAMP:20260426T004339
CREATED:20250923T053033Z
LAST-MODIFIED:20250923T053033Z
UID:82309-1759399200-1761823800@ilchibrainyoga.com
SUMMARY:【奈良】10月2日㈭・9日㈭・16日㈭・23日㈭・30日㈭　頑張る私にごほうびを。関節ケアでリフレッシュ！
DESCRIPTION:疲れ・ストレスなどにお悩みの方の関節をほぐすことで、\n心までやわらかくなるエクササイズと瞑想を行います。 \n開催日：10月2日㈭・9日㈭・16日㈭・23日㈭・30日㈭\n時間：10：00～11：30\n主催：イルチブレインヨガ奈良スタジオ\n住所：奈良市下三条町10-1末廣ビル6階\n参加費：1\,500円　(税込み)　 \n※事前にご予約をお願い致します。\n※LINEからの申し込みで500円OFF！\n※体験された方にお好きなところ10分ほぐしプレゼント\n※30分前にお越しください\n※動きやすい服装（男女更衣室あり）、汗拭きタオル、水分補給の飲み物\n※駐車場がございませんので近隣のコインパーキングにお願い致します。\n自転車、バイクはビル通路に停めていただけます。\nトレーナー：上村　真知子 \n問合せ電話：0742-23-6701 \n\nLINEからのお申し込みはこちら⇒https://lin.ee/clvMTqR \n\n\n  \n\n\n\n\n	\n	\n	 \n	\n		\n			\n				ご予約内容\n						（必須）\n						\n				 \n			\n			\n				体験レッスンイベント体験レッスン+オーラ撮影オーラ撮影問合せ\n※ 入会予約はこちらからお申し込みください\n				 \n			\n		\n		\n			\n				お名前\n						（必須）\n						\n				 \n			\n			\n				\n				 \n			\n		\n		\n			\n				メールアドレス\n						（必須）\n						\n				 \n			\n			\n				\n※ 携帯電話のメールアドレスをご入力の際は、ドメイン指定の設定をされている場合”＠ilchibrainyoga.com”からのメールを受け取ることができるように設定してください。\n				 \n			\n		\n		\n			\n				お電話番号（携帯可）\n						（必須）\n						\n				 \n			\n			\n				イルチブレインヨガ各店舗からの連絡が可能な番号をご入力ください。\n\n				 \n			\n		\n		\n			\n				ご予約希望日時\n				 \n			\n			\n				ご予約希望日時をお選びください\n【希望日】タイムスケジュールに記載があるクラスからお選びください\n\n時間帯を選択してください10時台のクラス14時台のクラス19時台のクラス21時台のクラスMiniクラス午前のイベント午後のイベント夜のイベント\n				 \n				※ ご予約状況等によりご希望の日時に添えない場合もございます。その際は事前に調整を行う連絡をさせていただきますので予めご了承ください。\n\n				 \n			\n		\n		\n			\n				こちらのスタジオを何でお知りになりましたか？\n						 （必須）\n						\n				 \n			\n			\n				チラシ看板書籍雑誌紹介Yahoo検索Google検索口コミその他Webサイト\n				 \n			\n		\n		\n			\n				ご関心があること、習得したいこと（複数可）\n				 \n			\n			\n				自然治癒力アップ集中力アップダイエット体質改善ストレス軽減丹田強化呼吸法瞑想法その他（備考欄にご入力ください）\n				 \n			\n		\n		\n			\n				備考欄\n				 \n			\n			\n				\n				 \n			\n		\n	\n	個人情報の取扱い\n		について、同意の上送信します。\n※ ご入力頂いた情報は、株式会社DAHN WORLD JAPANからのご案内をさせて頂く以外の目的では使用致しません。\n		\n	 \n	\n	\n	 \n	※ 送信ボタンを押すとすぐ送信されます。このページで入力内容を確認してください。\n\n自動で完了メールが配信されます。\n	 \nΔ \n\n\n\n株式会社DAHN WORLD JAPAN　ダンワールドジャパン
URL:https://ilchibrainyoga.com/event/nara-12/
LOCATION:イルチブレインヨガ奈良スタジオ\, 奈良市下三条10-1　末廣ビル6階\, 日本
CATEGORIES:奈良,奈良
ATTACH;FMTTYPE=image/jpeg:https://ilchibrainyoga.com/wp-content/uploads/2025/09/1人ストレッチ.jpg
END:VEVENT
BEGIN:VEVENT
DTSTART;TZID=Asia/Tokyo:20250912T100000
DTEND;TZID=Asia/Tokyo:20250926T113000
DTSTAMP:20260426T004339
CREATED:20250903T020519Z
LAST-MODIFIED:20250903T020519Z
UID:82000-1757671200-1758886200@ilchibrainyoga.com
SUMMARY:【奈良】9月12日（金）19日（金）26日（金）頑張る私にごほうびを。関節ケアでリフレッシュ！
DESCRIPTION:疲れ・ストレスなどにお悩みの方の関節をほぐすことで、心までやわらかくなるエクササイズと瞑想を行います。 \n開催日：9月12日（金）19日（金）26日（金）\n時間：10：00～11：30\n主催：イルチブレインヨガ奈良スタジオ\n住所：奈良市下三条町10-1末廣ビル6階\n参加費：1\,500円　(税込み)　\nトレーナー：上村　真知子 \n※事前にご予約をお願い致します。\n※LINEからの申し込みで500円OFF！\n※体験された方にお好きなところ10分ほぐしプレゼント\n※動きやすい服装（男女更衣室あり）、汗拭きタオル、水分補給の飲み物\n※駐車場がございませんので近隣のコインパーキングにお願い致します。\n自転車、バイクはビル通路に停めていただけます。 \n問合せ電話：0742-23-6701 \n\nLINEからのお申し込みはこちら⇒https://lin.ee/clvMTqR \n\n\n  \n\n\n\n\n	\n	\n	 \n	\n		\n			\n				ご予約内容\n						（必須）\n						\n				 \n			\n			\n				体験レッスンイベント体験レッスン+オーラ撮影オーラ撮影問合せ\n※ 入会予約はこちらからお申し込みください\n				 \n			\n		\n		\n			\n				お名前\n						（必須）\n						\n				 \n			\n			\n				\n				 \n			\n		\n		\n			\n				メールアドレス\n						（必須）\n						\n				 \n			\n			\n				\n※ 携帯電話のメールアドレスをご入力の際は、ドメイン指定の設定をされている場合”＠ilchibrainyoga.com”からのメールを受け取ることができるように設定してください。\n				 \n			\n		\n		\n			\n				お電話番号（携帯可）\n						（必須）\n						\n				 \n			\n			\n				イルチブレインヨガ各店舗からの連絡が可能な番号をご入力ください。\n\n				 \n			\n		\n		\n			\n				ご予約希望日時\n				 \n			\n			\n				ご予約希望日時をお選びください\n【希望日】タイムスケジュールに記載があるクラスからお選びください\n\n時間帯を選択してください10時台のクラス14時台のクラス19時台のクラス21時台のクラスMiniクラス午前のイベント午後のイベント夜のイベント\n				 \n				※ ご予約状況等によりご希望の日時に添えない場合もございます。その際は事前に調整を行う連絡をさせていただきますので予めご了承ください。\n\n				 \n			\n		\n		\n			\n				こちらのスタジオを何でお知りになりましたか？\n						 （必須）\n						\n				 \n			\n			\n				チラシ看板書籍雑誌紹介Yahoo検索Google検索口コミその他Webサイト\n				 \n			\n		\n		\n			\n				ご関心があること、習得したいこと（複数可）\n				 \n			\n			\n				自然治癒力アップ集中力アップダイエット体質改善ストレス軽減丹田強化呼吸法瞑想法その他（備考欄にご入力ください）\n				 \n			\n		\n		\n			\n				備考欄\n				 \n			\n			\n				\n				 \n			\n		\n	\n	個人情報の取扱い\n		について、同意の上送信します。\n※ ご入力頂いた情報は、株式会社DAHN WORLD JAPANからのご案内をさせて頂く以外の目的では使用致しません。\n		\n	 \n	\n	\n	 \n	※ 送信ボタンを押すとすぐ送信されます。このページで入力内容を確認してください。\n\n自動で完了メールが配信されます。\n	 \nΔ \n\n\n\n株式会社DAHN WORLD JAPAN　ダンワールドジャパン
URL:https://ilchibrainyoga.com/event/nara-10/
LOCATION:イルチブレインヨガ奈良スタジオ\, 奈良市下三条10-1　末廣ビル6階\, 日本
CATEGORIES:奈良,奈良
ATTACH;FMTTYPE=image/jpeg:https://ilchibrainyoga.com/wp-content/uploads/2025/09/1人ストレッチ.jpg
END:VEVENT
BEGIN:VEVENT
DTSTART;TZID=Asia/Tokyo:20250903T100000
DTEND;TZID=Asia/Tokyo:20250924T113000
DTSTAMP:20260426T004339
CREATED:20250828T060531Z
LAST-MODIFIED:20250828T060548Z
UID:81886-1756893600-1758713400@ilchibrainyoga.com
SUMMARY:【奈良】9月3日（水）10日（水）17日（水）24日（水）～その心の不安 実は腸かも～　腸から整えるヨガ体験会
DESCRIPTION:腸や股関節を緩めるブレイン体操やブレイン瞑想など　 \n開催日：9月3日（水）10日（水）17日（水）24日（水）\n時間：10：00～11：30\n会場名：イルチブレインヨガ奈良スタジオ\n会場住所：奈良市下三条町10-1末廣ビル6階\n参加費：1000円\nトレーナー：小倉里江\n持ち物：動きやすい服装、汗拭きタオル、お飲み物\n問合せ電話：0742-23-6701 \n\nLINEからのお申し込みはこちら⇒https://lin.ee/clvMTqR \n\n\n  \n\n\n\n\n	\n	\n	 \n	\n		\n			\n				ご予約内容\n						（必須）\n						\n				 \n			\n			\n				体験レッスンイベント体験レッスン+オーラ撮影オーラ撮影問合せ\n※ 入会予約はこちらからお申し込みください\n				 \n			\n		\n		\n			\n				お名前\n						（必須）\n						\n				 \n			\n			\n				\n				 \n			\n		\n		\n			\n				メールアドレス\n						（必須）\n						\n				 \n			\n			\n				\n※ 携帯電話のメールアドレスをご入力の際は、ドメイン指定の設定をされている場合”＠ilchibrainyoga.com”からのメールを受け取ることができるように設定してください。\n				 \n			\n		\n		\n			\n				お電話番号（携帯可）\n						（必須）\n						\n				 \n			\n			\n				イルチブレインヨガ各店舗からの連絡が可能な番号をご入力ください。\n\n				 \n			\n		\n		\n			\n				ご予約希望日時\n				 \n			\n			\n				ご予約希望日時をお選びください\n【希望日】タイムスケジュールに記載があるクラスからお選びください\n\n時間帯を選択してください10時台のクラス14時台のクラス19時台のクラス21時台のクラスMiniクラス午前のイベント午後のイベント夜のイベント\n				 \n				※ ご予約状況等によりご希望の日時に添えない場合もございます。その際は事前に調整を行う連絡をさせていただきますので予めご了承ください。\n\n				 \n			\n		\n		\n			\n				こちらのスタジオを何でお知りになりましたか？\n						 （必須）\n						\n				 \n			\n			\n				チラシ看板書籍雑誌紹介Yahoo検索Google検索口コミその他Webサイト\n				 \n			\n		\n		\n			\n				ご関心があること、習得したいこと（複数可）\n				 \n			\n			\n				自然治癒力アップ集中力アップダイエット体質改善ストレス軽減丹田強化呼吸法瞑想法その他（備考欄にご入力ください）\n				 \n			\n		\n		\n			\n				備考欄\n				 \n			\n			\n				\n				 \n			\n		\n	\n	個人情報の取扱い\n		について、同意の上送信します。\n※ ご入力頂いた情報は、株式会社DAHN WORLD JAPANからのご案内をさせて頂く以外の目的では使用致しません。\n		\n	 \n	\n	\n	 \n	※ 送信ボタンを押すとすぐ送信されます。このページで入力内容を確認してください。\n\n自動で完了メールが配信されます。\n	 \nΔ \n\n\n\n株式会社DAHN WORLD JAPAN　ダンワールドジャパン
URL:https://ilchibrainyoga.com/event/nara-9/
LOCATION:イルチブレインヨガ奈良スタジオ\, 奈良市下三条10-1　末廣ビル6階\, 日本
CATEGORIES:奈良,奈良
ATTACH;FMTTYPE=image/jpeg:https://ilchibrainyoga.com/wp-content/uploads/2025/08/腸①.jpg
END:VEVENT
END:VCALENDAR